BEGIN:VCALENDAR
VERSION:2.0
PRODID:-//Cheltenham Bird Club - ECPv6.15.20//NONSGML v1.0//EN
CALSCALE:GREGORIAN
METHOD:PUBLISH
X-ORIGINAL-URL:https://cheltenhambirdclub.org.uk
X-WR-CALDESC:Events for Cheltenham Bird Club
REFRESH-INTERVAL;VALUE=DURATION:PT1H
X-Robots-Tag:noindex
X-PUBLISHED-TTL:PT1H
BEGIN:VTIMEZONE
TZID:Europe/London
BEGIN:DAYLIGHT
TZOFFSETFROM:+0000
TZOFFSETTO:+0100
TZNAME:BST
DTSTART:20250330T010000
END:DAYLIGHT
BEGIN:STANDARD
TZOFFSETFROM:+0100
TZOFFSETTO:+0000
TZNAME:GMT
DTSTART:20251026T010000
END:STANDARD
BEGIN:DAYLIGHT
TZOFFSETFROM:+0000
TZOFFSETTO:+0100
TZNAME:BST
DTSTART:20260329T010000
END:DAYLIGHT
BEGIN:STANDARD
TZOFFSETFROM:+0100
TZOFFSETTO:+0000
TZNAME:GMT
DTSTART:20261025T010000
END:STANDARD
BEGIN:DAYLIGHT
TZOFFSETFROM:+0000
TZOFFSETTO:+0100
TZNAME:BST
DTSTART:20270328T010000
END:DAYLIGHT
BEGIN:STANDARD
TZOFFSETFROM:+0100
TZOFFSETTO:+0000
TZNAME:GMT
DTSTART:20271031T010000
END:STANDARD
END:VTIMEZONE
BEGIN:VEVENT
DTSTART;TZID=Europe/London:20260216T190000
DTEND;TZID=Europe/London:20260216T210000
DTSTAMP:20260421T105359
CREATED:20250917T203923Z
LAST-MODIFIED:20250917T203923Z
UID:683-1771268400-1771275600@cheltenhambirdclub.org.uk
SUMMARY:Our local Warblers
DESCRIPTION:A talk about the Warblers you’ll encounter locally.  What they look like and (more importantly) sound like\, where you’ll find them\, and how I’ve learnt to identify them.  What online resources are out there for you to use.  Lots of audio\, so bring your ears!
URL:https://cheltenhambirdclub.org.uk/event/our-local-warblers/
LOCATION:Belmont School\, Warden Hill Road\, Cheltenham\, GL51 3AT
CATEGORIES:Talks
END:VEVENT
END:VCALENDAR