BEGIN:VCALENDAR
VERSION:2.0
PRODID:-//Cheltenham Bird Club - ECPv6.15.20//NONSGML v1.0//EN
CALSCALE:GREGORIAN
METHOD:PUBLISH
X-WR-CALNAME:Cheltenham Bird Club
X-ORIGINAL-URL:https://cheltenhambirdclub.org.uk
X-WR-CALDESC:Events for Cheltenham Bird Club
REFRESH-INTERVAL;VALUE=DURATION:PT1H
X-Robots-Tag:noindex
X-PUBLISHED-TTL:PT1H
BEGIN:VTIMEZONE
TZID:Europe/London
BEGIN:DAYLIGHT
TZOFFSETFROM:+0000
TZOFFSETTO:+0100
TZNAME:BST
DTSTART:20240331T010000
END:DAYLIGHT
BEGIN:STANDARD
TZOFFSETFROM:+0100
TZOFFSETTO:+0000
TZNAME:GMT
DTSTART:20241027T010000
END:STANDARD
BEGIN:DAYLIGHT
TZOFFSETFROM:+0000
TZOFFSETTO:+0100
TZNAME:BST
DTSTART:20250330T010000
END:DAYLIGHT
BEGIN:STANDARD
TZOFFSETFROM:+0100
TZOFFSETTO:+0000
TZNAME:GMT
DTSTART:20251026T010000
END:STANDARD
BEGIN:DAYLIGHT
TZOFFSETFROM:+0000
TZOFFSETTO:+0100
TZNAME:BST
DTSTART:20260329T010000
END:DAYLIGHT
BEGIN:STANDARD
TZOFFSETFROM:+0100
TZOFFSETTO:+0000
TZNAME:GMT
DTSTART:20261025T010000
END:STANDARD
BEGIN:DAYLIGHT
TZOFFSETFROM:+0000
TZOFFSETTO:+0100
TZNAME:BST
DTSTART:20270328T010000
END:DAYLIGHT
BEGIN:STANDARD
TZOFFSETFROM:+0100
TZOFFSETTO:+0000
TZNAME:GMT
DTSTART:20271031T010000
END:STANDARD
END:VTIMEZONE
BEGIN:VEVENT
DTSTART;TZID=Europe/London:20251215T190000
DTEND;TZID=Europe/London:20251215T210000
DTSTAMP:20260419T141416
CREATED:20250711T201204Z
LAST-MODIFIED:20250712T093820Z
UID:576-1765825200-1765832400@cheltenhambirdclub.org.uk
SUMMARY:Pars\, Pistes and Birdies by Arthur Ball
DESCRIPTION:Our own Bird Club member\, Arthur has a reputation for giving amusing talks. This one will be light hearted anecdotes of ‘accidental’ bird watching whilst Arthur pursued other hobbies. \n  \nThe talk will be followed by our usual Christmas ‘Bring and Share’ supper.
URL:https://cheltenhambirdclub.org.uk/event/pars-pistes-and-birdies-by-arthur-ball/
LOCATION:Belmont School\, Warden Hill Road\, Cheltenham\, GL51 3AT
CATEGORIES:Talks
ATTACH;FMTTYPE=image/png:https://cheltenhambirdclub.org.uk/wp-content/uploads/2025/07/nutcracker-6293666_640-e1752312982959.png
END:VEVENT
BEGIN:VEVENT
DTSTART;TZID=Europe/London:20260105T190000
DTEND;TZID=Europe/London:20260105T210000
DTSTAMP:20260419T141416
CREATED:20251030T154731Z
LAST-MODIFIED:20251030T160055Z
UID:717-1767639600-1767646800@cheltenhambirdclub.org.uk
SUMMARY:Little Owls by Gordon Kirk
DESCRIPTION:
URL:https://cheltenhambirdclub.org.uk/event/little-owls/
CATEGORIES:Talks
END:VEVENT
BEGIN:VEVENT
DTSTART;TZID=Europe/London:20260112T190000
DTEND;TZID=Europe/London:20260112T210000
DTSTAMP:20260419T141416
CREATED:20251030T155915Z
LAST-MODIFIED:20251030T155915Z
UID:720-1768244400-1768251600@cheltenhambirdclub.org.uk
SUMMARY:Buildings\, Birds and Wildlife by Larry Aston
DESCRIPTION:Laurence Aston is a Chartered Architect with over 25 years of experience of designing extensions\, conversions and new builds in the Gloucester area. He is particularly interested in preserving and providing for nest sites and habitat for birds and other wildlife.
URL:https://cheltenhambirdclub.org.uk/event/buildings-birds-and-wildlife-by-larry-aston/
LOCATION:Belmont School\, Warden Hill Road\, Cheltenham\, GL51 3AT
CATEGORIES:Talks
END:VEVENT
BEGIN:VEVENT
DTSTART;TZID=Europe/London:20260119T190000
DTEND;TZID=Europe/London:20260119T210000
DTSTAMP:20260419T141416
CREATED:20250803T165925Z
LAST-MODIFIED:20251030T160553Z
UID:626-1768849200-1768856400@cheltenhambirdclub.org.uk
SUMMARY:Wildlife and wild places of Menorca by Chris Gibson
DESCRIPTION:This talk will be on Zoom and be shown at Belmont School or visible from your own home.
URL:https://cheltenhambirdclub.org.uk/event/wildlife-and-wild-places-of-menorca-by-chris-gibson/
LOCATION:Belmont School\, Warden Hill Road\, Cheltenham\, GL51 3AT
CATEGORIES:Talks
END:VEVENT
BEGIN:VEVENT
DTSTART;TZID=Europe/London:20260126T190000
DTEND;TZID=Europe/London:20260126T210000
DTSTAMP:20260419T141416
CREATED:20250803T164948Z
LAST-MODIFIED:20251030T160344Z
UID:623-1769454000-1769461200@cheltenhambirdclub.org.uk
SUMMARY:AGM & talk on 'The Dark Side of Mothing' by Nick Hayward
DESCRIPTION:
URL:https://cheltenhambirdclub.org.uk/event/moths-by-nick-hayward/
LOCATION:Belmont School\, Warden Hill Road\, Cheltenham\, GL51 3AT
CATEGORIES:Talks
END:VEVENT
BEGIN:VEVENT
DTSTART;TZID=Europe/London:20260202T190000
DTEND;TZID=Europe/London:20260202T210000
DTSTAMP:20260419T141416
CREATED:20251030T160812Z
LAST-MODIFIED:20260129T164503Z
UID:725-1770058800-1770066000@cheltenhambirdclub.org.uk
SUMMARY:Birding in the Brenne\, France by Tony Williams
DESCRIPTION:Tony will be speaking by Zoom from the Brenne in France where he has lived for many years. He has worked on reserve management for the LPO\, France’s equivalent of the RSPB. He has been  a tour guide for Naturetrek in East Africa and Madagascar. \nTony’s work experience includes postings in the Camargue\, Mauritania and Fair Isle.
URL:https://cheltenhambirdclub.org.uk/event/birding-in-the-brenne-france-by-tony-williams/
LOCATION:Belmont School\, Warden Hill Road\, Cheltenham\, GL51 3AT
CATEGORIES:Talks
END:VEVENT
BEGIN:VEVENT
DTSTART;TZID=Europe/London:20260209T184500
DTEND;TZID=Europe/London:20260209T210000
DTSTAMP:20260419T141416
CREATED:20251030T182710Z
LAST-MODIFIED:20260107T125803Z
UID:728-1770662700-1770670800@cheltenhambirdclub.org.uk
SUMMARY:The Birds and Wildlife of Costa Rica by Steve Grimwade
DESCRIPTION:This will be a longer Zoom talk so will start at 7pm
URL:https://cheltenhambirdclub.org.uk/event/the-birds-and-wildlife-of-costa-rica/
LOCATION:Belmont School\, Warden Hill Road\, Cheltenham\, GL51 3AT
CATEGORIES:Talks
END:VEVENT
BEGIN:VEVENT
DTSTART;TZID=Europe/London:20260216T190000
DTEND;TZID=Europe/London:20260216T210000
DTSTAMP:20260419T141416
CREATED:20250917T203923Z
LAST-MODIFIED:20250917T203923Z
UID:683-1771268400-1771275600@cheltenhambirdclub.org.uk
SUMMARY:Our local Warblers
DESCRIPTION:A talk about the Warblers you’ll encounter locally.  What they look like and (more importantly) sound like\, where you’ll find them\, and how I’ve learnt to identify them.  What online resources are out there for you to use.  Lots of audio\, so bring your ears!
URL:https://cheltenhambirdclub.org.uk/event/our-local-warblers/
LOCATION:Belmont School\, Warden Hill Road\, Cheltenham\, GL51 3AT
CATEGORIES:Talks
END:VEVENT
BEGIN:VEVENT
DTSTART;TZID=Europe/London:20260223T190000
DTEND;TZID=Europe/London:20260223T210000
DTSTAMP:20260419T141416
CREATED:20260107T181505Z
LAST-MODIFIED:20260223T155839Z
UID:758-1771873200-1771880400@cheltenhambirdclub.org.uk
SUMMARY:Southern Ecuador – Searching for new and endemic species in the Andes of Ecuador
DESCRIPTION:Roberta Goodall’s talk is a no longer going to be longer than usual. Start 7.15pm\, arrive by 7pm
URL:https://cheltenhambirdclub.org.uk/event/southern-ecuador-searching-for-new-and-endemic-species-in-the-andes-of-ecuador/
LOCATION:Belmont School\, Warden Hill Road\, Cheltenham\, GL51 3AT
CATEGORIES:Talks
END:VEVENT
BEGIN:VEVENT
DTSTART;TZID=Europe/London:20260302T190000
DTEND;TZID=Europe/London:20260302T210000
DTSTAMP:20260419T141416
CREATED:20260107T183031Z
LAST-MODIFIED:20260130T142405Z
UID:760-1772478000-1772485200@cheltenhambirdclub.org.uk
SUMMARY:Farming and Wildlife by Nicholas Watts
DESCRIPTION:Nicholas has farmed at Vine House Farm since 1964. He started recording the breeding birds on his farm in 1982. In 1992 he realised there had been a large decline of some species\, this worried him so he decided to try and stop this decline and by chance Vine House Bird foods was created. \nSince 1992 there has been extensive habitat creation at Vine House Farm and Nicholas has won\nmore awards for conservation on his farm than any other farmer in the UK. He has also received the MBE for his work. \nNicholas researches and trials conservation ideas and then shares results and advice with other farmers and conservation bodies.
URL:https://cheltenhambirdclub.org.uk/event/farming-and-wildlife-by-nicholas-watts/
CATEGORIES:Talks
END:VEVENT
BEGIN:VEVENT
DTSTART;TZID=Europe/London:20260309T190000
DTEND;TZID=Europe/London:20260309T210000
DTSTAMP:20260419T141416
CREATED:20260107T183400Z
LAST-MODIFIED:20260129T164650Z
UID:763-1773082800-1773090000@cheltenhambirdclub.org.uk
SUMMARY:Moult by John Harvey
DESCRIPTION:This is short talk to be followed by the traditional end of season Bring and Share.
URL:https://cheltenhambirdclub.org.uk/event/moult-by-john-harvey/
LOCATION:Belmont School\, Warden Hill Road\, Cheltenham\, GL51 3AT
CATEGORIES:Talks
END:VEVENT
END:VCALENDAR